BEGIN:VCALENDAR
VERSION:2.0
PRODID:-//Herrig Center for the Arts - ECPv6.15.20//NONSGML v1.0//EN
CALSCALE:GREGORIAN
METHOD:PUBLISH
X-WR-CALNAME:Herrig Center for the Arts
X-ORIGINAL-URL:https://herrigcenter.org
X-WR-CALDESC:Events for Herrig Center for the Arts
REFRESH-INTERVAL;VALUE=DURATION:PT1H
X-Robots-Tag:noindex
X-PUBLISHED-TTL:PT1H
BEGIN:VTIMEZONE
TZID:America/New_York
BEGIN:DAYLIGHT
TZOFFSETFROM:-0500
TZOFFSETTO:-0400
TZNAME:EDT
DTSTART:20150308T070000
END:DAYLIGHT
BEGIN:STANDARD
TZOFFSETFROM:-0400
TZOFFSETTO:-0500
TZNAME:EST
DTSTART:20151101T060000
END:STANDARD
BEGIN:DAYLIGHT
TZOFFSETFROM:-0500
TZOFFSETTO:-0400
TZNAME:EDT
DTSTART:20160313T070000
END:DAYLIGHT
BEGIN:STANDARD
TZOFFSETFROM:-0400
TZOFFSETTO:-0500
TZNAME:EST
DTSTART:20161106T060000
END:STANDARD
BEGIN:DAYLIGHT
TZOFFSETFROM:-0500
TZOFFSETTO:-0400
TZNAME:EDT
DTSTART:20170312T070000
END:DAYLIGHT
BEGIN:STANDARD
TZOFFSETFROM:-0400
TZOFFSETTO:-0500
TZNAME:EST
DTSTART:20171105T060000
END:STANDARD
BEGIN:DAYLIGHT
TZOFFSETFROM:-0500
TZOFFSETTO:-0400
TZNAME:EDT
DTSTART:20180311T070000
END:DAYLIGHT
BEGIN:STANDARD
TZOFFSETFROM:-0400
TZOFFSETTO:-0500
TZNAME:EST
DTSTART:20181104T060000
END:STANDARD
END:VTIMEZONE
BEGIN:VEVENT
DTSTART;TZID=America/New_York:20170303T170000
DTEND;TZID=America/New_York:20170303T190000
DTSTAMP:20260422T145819
CREATED:20160803T164826Z
LAST-MODIFIED:20160803T164826Z
UID:14010-1488560400-1488567600@herrigcenter.org
SUMMARY:International Acrylic Painters\, Donna McIntyre & Student Shows Opening Reception
DESCRIPTION:Join us as we celebrate the opening of three new exhibits\, the International Acrylic Painters in the Kellogg Gallery\, Donna McIntyre in the Searle Gallery\, and the Student Show in the Reid Hodges Gallery.  Free and open to the public.
URL:https://herrigcenter.org/event/international-acrylic-painters-donna-mcintyre-student-shows-opening-reception/
LOCATION:Opening Reception\, 209 9th St W\, Bradenton\, 34205
ORGANIZER;CN="Herrig Center for the Arts":MAILTO:acm@artcentermanatee.org
END:VEVENT
BEGIN:VEVENT
DTSTART;TZID=America/New_York:20170228T090000
DTEND;TZID=America/New_York:20170324T170000
DTSTAMP:20260422T145819
CREATED:20160803T165311Z
LAST-MODIFIED:20160803T165311Z
UID:14011-1488272400-1490374800@herrigcenter.org
SUMMARY:International Society of Acrylic Painters\, Donna McIntyre and Student Exhibits
DESCRIPTION:
URL:https://herrigcenter.org/event/international-society-of-acrylic-painters-donna-mcintyre-and-student-exhibits/
LOCATION:Opening Reception\, 209 9th St W\, Bradenton\, 34205
ORGANIZER;CN="Herrig Center for the Arts":MAILTO:acm@artcentermanatee.org
END:VEVENT
BEGIN:VEVENT
DTSTART;TZID=America/New_York:20170225T100000
DTEND;TZID=America/New_York:20170226T160000
DTSTAMP:20260422T145819
CREATED:20160803T160426Z
LAST-MODIFIED:20160803T160426Z
UID:14006-1488016800-1488124800@herrigcenter.org
SUMMARY:Fine Arts Festival of Manatee County
DESCRIPTION:Free Admission & Parking and open to the public.  Location: 500 15th Street W\, Bradenton FL 34205 (Manatee Avenue & Ware’s Creek).
URL:https://herrigcenter.org/event/fine-arts-festival-of-manatee-county/
LOCATION:Unnamed Venue\, 500 15th Street W\, Bradenton \, FL\, 34205\, United States
ORGANIZER;CN="Herrig Center for the Arts":MAILTO:acm@artcentermanatee.org
END:VEVENT
BEGIN:VEVENT
DTSTART;TZID=America/New_York:20170209T090000
DTEND;TZID=America/New_York:20170211T160000
DTSTAMP:20260422T145819
CREATED:20160803T160049Z
LAST-MODIFIED:20160803T160049Z
UID:14004-1486630800-1486828800@herrigcenter.org
SUMMARY:Play with Color with Kathleen Maling Watercolor Workshop
DESCRIPTION:
URL:https://herrigcenter.org/event/play-with-color-with-kathleen-maling-watercolor-workshop/
LOCATION:Opening Reception\, 209 9th St W\, Bradenton\, 34205
ORGANIZER;CN="Herrig Center for the Arts":MAILTO:acm@artcentermanatee.org
END:VEVENT
BEGIN:VEVENT
DTSTART;TZID=America/New_York:20170127T190000
DTEND;TZID=America/New_York:20170127T210000
DTSTAMP:20260422T145819
CREATED:20160802T193511Z
LAST-MODIFIED:20160802T193511Z
UID:13726-1485543600-1485550800@herrigcenter.org
SUMMARY:Nights Out: Painted Glass Vase with Annette Kneeland
DESCRIPTION:Includes wine or beer & light snacks.  Must be 21 or older.  $5 supply fee due to instructor.
URL:https://herrigcenter.org/event/nights-out-painted-glass-vase-with-annette-kneeland/
LOCATION:Opening Reception\, 209 9th St W\, Bradenton\, 34205
ORGANIZER;CN="Herrig Center for the Arts":MAILTO:acm@artcentermanatee.org
END:VEVENT
BEGIN:VEVENT
DTSTART;TZID=America/New_York:20170127T090000
DTEND;TZID=America/New_York:20170129T160000
DTSTAMP:20260422T145819
CREATED:20160803T155817Z
LAST-MODIFIED:20160803T155817Z
UID:14002-1485507600-1485705600@herrigcenter.org
SUMMARY:Color\, Pattern\, Texture in Acrylic Painting Workshop with Nancy Stark
DESCRIPTION:
URL:https://herrigcenter.org/event/color-pattern-texture-in-acrylic-painting-workshop-with-nancy-stark/
LOCATION:Opening Reception\, 209 9th St W\, Bradenton\, 34205
ORGANIZER;CN="Herrig Center for the Arts":MAILTO:acm@artcentermanatee.org
END:VEVENT
BEGIN:VEVENT
DTSTART;TZID=America/New_York:20170126T170000
DTEND;TZID=America/New_York:20170126T190000
DTSTAMP:20260422T145819
CREATED:20160803T152850Z
LAST-MODIFIED:20160803T152850Z
UID:13995-1485450000-1485457200@herrigcenter.org
SUMMARY:American Watercolor Society & Florida Suncoast Watercolor Society Opening Reception
DESCRIPTION:Free & Open to the public.  Join us as we celebrate the opening of the traveling American Watercolor Society exhibit and the annual Florida Suncoast Watercolor Society Opening Reception.
URL:https://herrigcenter.org/event/american-watercolor-society-florida-suncoast-watercolor-society-opening-reception/
LOCATION:Opening Reception\, 209 9th St W\, Bradenton\, 34205
ORGANIZER;CN="Herrig Center for the Arts":MAILTO:acm@artcentermanatee.org
END:VEVENT
BEGIN:VEVENT
DTSTART;TZID=America/New_York:20170124T090000
DTEND;TZID=America/New_York:20170224T170000
DTSTAMP:20260422T145819
CREATED:20160803T151840Z
LAST-MODIFIED:20160803T151840Z
UID:13993-1485248400-1487955600@herrigcenter.org
SUMMARY:American Watercolor Society (AWS) & Florida Suncoast Watercolor Society Exhibits
DESCRIPTION:$5 entry fee for American Watercolor Society in Kellogg Gallery.
URL:https://herrigcenter.org/event/american-watercolor-society-aws-florida-suncoast-watercolor-society-exhibits/
LOCATION:Opening Reception\, 209 9th St W\, Bradenton\, 34205
ORGANIZER;CN="Herrig Center for the Arts":MAILTO:acm@artcentermanatee.org
END:VEVENT
BEGIN:VEVENT
DTSTART;TZID=America/New_York:20170121T110000
DTEND;TZID=America/New_York:20170121T143000
DTSTAMP:20260422T145819
CREATED:20160803T151341Z
LAST-MODIFIED:20160803T151341Z
UID:13976-1484996400-1485009000@herrigcenter.org
SUMMARY:Jazzy Ladies Fashion Show
DESCRIPTION:Fashions provided by J. Jill. $48 includes luncheon.
URL:https://herrigcenter.org/event/jazzy-ladies-fashion-show/
LOCATION:Lakewood Ranch Golf & Country Club\, 7650 Legacy Blvd\, Lakewood Ranch\, FL\, 34202\, United States
ORGANIZER;CN="Herrig Center for the Arts":MAILTO:acm@artcentermanatee.org
END:VEVENT
BEGIN:VEVENT
DTSTART;TZID=America/New_York:20170113T183000
DTEND;TZID=America/New_York:20170113T210000
DTSTAMP:20260422T145819
CREATED:20160802T192928Z
LAST-MODIFIED:20160802T192928Z
UID:13723-1484332200-1484341200@herrigcenter.org
SUMMARY:Nights Out: Clay Earring Holder with Judi White
DESCRIPTION:Includes all supplies\, wine or beer & light snacks.  Must be 21 or older.
URL:https://herrigcenter.org/event/nights-out-clay-earring-holder-with-judi-white/
LOCATION:Opening Reception\, 209 9th St W\, Bradenton\, 34205
ORGANIZER;CN="Herrig Center for the Arts":MAILTO:acm@artcentermanatee.org
END:VEVENT
BEGIN:VEVENT
DTSTART;TZID=America/New_York:20170113T090000
DTEND;TZID=America/New_York:20170114T160000
DTSTAMP:20260422T145819
CREATED:20160803T143659Z
LAST-MODIFIED:20160803T143659Z
UID:13971-1484298000-1484409600@herrigcenter.org
SUMMARY:Painting Exciting Watercolor with Limited Palettes with Pat Weaver
DESCRIPTION:
URL:https://herrigcenter.org/event/painting-exciting-watercolor-with-limited-palettes-with-pat-weaver/
LOCATION:Opening Reception\, 209 9th St W\, Bradenton\, 34205
ORGANIZER;CN="Herrig Center for the Arts":MAILTO:acm@artcentermanatee.org
END:VEVENT
BEGIN:VEVENT
DTSTART;TZID=America/New_York:20161216T190000
DTEND;TZID=America/New_York:20161216T210000
DTSTAMP:20260422T145819
CREATED:20160802T191740Z
LAST-MODIFIED:20160802T191740Z
UID:13713-1481914800-1481922000@herrigcenter.org
SUMMARY:Nights Out: Make a Basket with Jennie Baas
DESCRIPTION:Includes all supplies\, wine or beer & light snacks.  Must be 21 or older.
URL:https://herrigcenter.org/event/nights-out-make-a-basket-with-jennie-baas/
LOCATION:Opening Reception\, 209 9th St W\, Bradenton\, 34205
ORGANIZER;CN="Herrig Center for the Arts":MAILTO:acm@artcentermanatee.org
END:VEVENT
BEGIN:VEVENT
DTSTART;TZID=America/New_York:20161208T170000
DTEND;TZID=America/New_York:20161208T190000
DTSTAMP:20260422T145819
CREATED:20160802T204424Z
LAST-MODIFIED:20160802T204424Z
UID:13767-1481216400-1481223600@herrigcenter.org
SUMMARY:Dylan Pierce - Legacy of Hope & Wonders Of The World Open Juried Exhibit Opening Reception
DESCRIPTION:Join us as we celebrate the opening of two new exhibits: Dylan Pierce\, Legacy of Hope and Wonders Of The World\, an open juried exhibit.
URL:https://herrigcenter.org/event/dylan-pierce-legacy-of-hope-wonders-of-the-world-open-juried-exhibit-opening-reception/
LOCATION:Opening Reception\, 209 9th St W\, Bradenton\, 34205
ORGANIZER;CN="Herrig Center for the Arts":MAILTO:acm@artcentermanatee.org
END:VEVENT
BEGIN:VEVENT
DTSTART;TZID=America/New_York:20161208T090000
DTEND;TZID=America/New_York:20161210T170000
DTSTAMP:20260422T145819
CREATED:20160802T214710Z
LAST-MODIFIED:20160802T214710Z
UID:13769-1481187600-1481389200@herrigcenter.org
SUMMARY:Artful Holidays Party & Sale
DESCRIPTION:
URL:https://herrigcenter.org/event/artful-holidays-party-sale/
LOCATION:Opening Reception\, 209 9th St W\, Bradenton\, 34205
ORGANIZER;CN="Herrig Center for the Arts":MAILTO:acm@artcentermanatee.org
END:VEVENT
BEGIN:VEVENT
DTSTART;TZID=America/New_York:20161206T090000
DTEND;TZID=America/New_York:20170120T170000
DTSTAMP:20260422T145819
CREATED:20160802T204630Z
LAST-MODIFIED:20160802T204630Z
UID:13768-1481014800-1484931600@herrigcenter.org
SUMMARY:Dylan Pierce - Legacy of Hope & Wonders of the World\, Open Juried Exhibits
DESCRIPTION:
URL:https://herrigcenter.org/event/dylan-pierce-legacy-of-hope-wonders-of-the-world-open-juried-exhibits/
LOCATION:Opening Reception\, 209 9th St W\, Bradenton\, 34205
ORGANIZER;CN="Herrig Center for the Arts":MAILTO:acm@artcentermanatee.org
END:VEVENT
BEGIN:VEVENT
DTSTART;TZID=America/New_York:20161205T093000
DTEND;TZID=America/New_York:20161206T163000
DTSTAMP:20260422T145819
CREATED:20160802T204150Z
LAST-MODIFIED:20160802T204150Z
UID:13766-1480930200-1481041800@herrigcenter.org
SUMMARY:Portraits In Watercolor Workshop With Dylan Pierce
DESCRIPTION:
URL:https://herrigcenter.org/event/portraits-in-watercolor-workshop-with-dylan-pierce/
LOCATION:Opening Reception\, 209 9th St W\, Bradenton\, 34205
ORGANIZER;CN="Herrig Center for the Arts":MAILTO:acm@artcentermanatee.org
END:VEVENT
BEGIN:VEVENT
DTSTART;TZID=America/New_York:20161202T190000
DTEND;TZID=America/New_York:20161202T210000
DTSTAMP:20260422T145819
CREATED:20160802T191552Z
LAST-MODIFIED:20160802T191552Z
UID:13706-1480705200-1480712400@herrigcenter.org
SUMMARY:Nights Out: Silk Painting Suncatcher with Barbara Cabral
DESCRIPTION:Includes all supplies\, wine or beer & light snacks.  Must be 21 or older.
URL:https://herrigcenter.org/event/nights-out-silk-painting-suncatcher-with-barbara-cabral/
LOCATION:Opening Reception\, 209 9th St W\, Bradenton\, 34205
ORGANIZER;CN="Herrig Center for the Arts":MAILTO:acm@artcentermanatee.org
END:VEVENT
BEGIN:VEVENT
DTSTART;TZID=America/New_York:20161118T190000
DTEND;TZID=America/New_York:20161118T210000
DTSTAMP:20260422T145819
CREATED:20160802T191248Z
LAST-MODIFIED:20160802T191248Z
UID:13703-1479495600-1479502800@herrigcenter.org
SUMMARY:Nights Out: Hanging with the Locals\, Watercolor Painting with Rob Reiber
DESCRIPTION:Includes all supplies\, wine or beer & light snacks.  Must be 21 or older.
URL:https://herrigcenter.org/event/nights-out-hanging-with-the-locals-watercolor-painting-with-rob-reiber/
LOCATION:Opening Reception\, 209 9th St W\, Bradenton\, 34205
ORGANIZER;CN="Herrig Center for the Arts":MAILTO:acm@artcentermanatee.org
END:VEVENT
BEGIN:VEVENT
DTSTART;TZID=America/New_York:20161104T190000
DTEND;TZID=America/New_York:20161104T210000
DTSTAMP:20260422T145819
CREATED:20160802T190914Z
LAST-MODIFIED:20160802T190914Z
UID:13701-1478286000-1478293200@herrigcenter.org
SUMMARY:Nights Out: Cascade Earrings with Pauline Applegate
DESCRIPTION:Includes all supplies\, wine or beer & light snacks.  Must be 21 or older.
URL:https://herrigcenter.org/event/nights-out-cascade-earrings-with-pauline-applegate/
LOCATION:Opening Reception\, 209 9th St W\, Bradenton\, 34205
ORGANIZER;CN="Herrig Center for the Arts":MAILTO:acm@artcentermanatee.org
END:VEVENT
BEGIN:VEVENT
DTSTART;TZID=America/New_York:20161103T170000
DTEND;TZID=America/New_York:20161103T190000
DTSTAMP:20260422T145819
CREATED:20160802T203031Z
LAST-MODIFIED:20160802T203031Z
UID:13764-1478192400-1478199600@herrigcenter.org
SUMMARY:Art of the Heart Open Juried Exhibit Opening Reception
DESCRIPTION:Join us as we celebrate the opening of two new open juried shows\, Art Of The Heart will be featured in all three galleries.
URL:https://herrigcenter.org/event/art-of-the-heart-open-juried-exhibit-have-a-seat-open-juried-exhibit-opening-reception/
LOCATION:Opening Reception\, 209 9th St W\, Bradenton\, 34205
ORGANIZER;CN="Herrig Center for the Arts":MAILTO:acm@artcentermanatee.org
END:VEVENT
BEGIN:VEVENT
DTSTART;TZID=America/New_York:20161101T090000
DTEND;TZID=America/New_York:20161202T170000
DTSTAMP:20260422T145819
CREATED:20160802T203917Z
LAST-MODIFIED:20160802T203917Z
UID:13765-1477990800-1480698000@herrigcenter.org
SUMMARY:Art Of The Heart Open Juried Exhibits
DESCRIPTION:
URL:https://herrigcenter.org/event/art-of-the-heart-have-a-seat-open-juried-exhibits/
LOCATION:Opening Reception\, 209 9th St W\, Bradenton\, 34205
ORGANIZER;CN="Herrig Center for the Arts":MAILTO:acm@artcentermanatee.org
END:VEVENT
BEGIN:VEVENT
DTSTART;TZID=America/New_York:20161028T190000
DTEND;TZID=America/New_York:20161028T210000
DTSTAMP:20260422T145819
CREATED:20160802T190516Z
LAST-MODIFIED:20160802T190516Z
UID:13699-1477681200-1477688400@herrigcenter.org
SUMMARY:Nights Out: Fused Glass Pendant with Liana Martin
DESCRIPTION:Includes all supplies\, wine or beer & light snacks.  Must be 21 or older.
URL:https://herrigcenter.org/event/nights-out-fused-glass-pendant-with-liana-martin/
LOCATION:Opening Reception\, 209 9th St W\, Bradenton\, 34205
ORGANIZER;CN="Herrig Center for the Arts":MAILTO:acm@artcentermanatee.org
END:VEVENT
BEGIN:VEVENT
DTSTART;TZID=America/New_York:20161014T183000
DTEND;TZID=America/New_York:20161014T210000
DTSTAMP:20260422T145819
CREATED:20160802T190157Z
LAST-MODIFIED:20160802T190157Z
UID:13695-1476469800-1476478800@herrigcenter.org
SUMMARY:Nights Out: Clay Mirror With Ted Camp
DESCRIPTION:Incudes all supplies\, wine or beer & light snacks.  Must be 21 or older.
URL:https://herrigcenter.org/event/nights-out-clay-mirror-with-ted-camp/
LOCATION:Opening Reception\, 209 9th St W\, Bradenton\, 34205
ORGANIZER;CN="Herrig Center for the Arts":MAILTO:acm@artcentermanatee.org
END:VEVENT
BEGIN:VEVENT
DTSTART;TZID=America/New_York:20161006T170000
DTEND;TZID=America/New_York:20161006T190000
DTSTAMP:20260422T145819
CREATED:20160802T202544Z
LAST-MODIFIED:20160802T202544Z
UID:13693-1475773200-1475780400@herrigcenter.org
SUMMARY:Pen Women & The Exhibiting Society of Artists (TESA) & 12 x 12 Open Juried Exhibit Opening Reception
DESCRIPTION:Join us as we celebrate the opening of three new exhibits: Pen Women in the Kellogg Gallery\, TESA in the Searle Gallery and our annual 12×12 exhibit in the Reid Hodges Gallery.
URL:https://herrigcenter.org/event/pen-women-the-exhibiting-society-of-artists-tesa-12-x-12-open-juried-exhibit-opening-reception/
LOCATION:Opening Reception\, 209 9th St W\, Bradenton\, 34205
ORGANIZER;CN="Herrig Center for the Arts":MAILTO:acm@artcentermanatee.org
END:VEVENT
BEGIN:VEVENT
DTSTART;TZID=America/New_York:20161004T090000
DTEND;TZID=America/New_York:20161028T170000
DTSTAMP:20260422T145819
CREATED:20160802T202637Z
LAST-MODIFIED:20160802T202637Z
UID:13694-1475571600-1477674000@herrigcenter.org
SUMMARY:Pen Women\, TESA\, & 12x12 Exhibits
DESCRIPTION:
URL:https://herrigcenter.org/event/pen-women-tesa-12x12-exhibits/
LOCATION:Opening Reception\, 209 9th St W\, Bradenton\, 34205
ORGANIZER;CN="Herrig Center for the Arts":MAILTO:acm@artcentermanatee.org
END:VEVENT
BEGIN:VEVENT
DTSTART;TZID=America/New_York:20160923T190000
DTEND;TZID=America/New_York:20160923T210000
DTSTAMP:20260422T145819
CREATED:20160802T183237Z
LAST-MODIFIED:20160802T183237Z
UID:13688-1474657200-1474664400@herrigcenter.org
SUMMARY:Nights Out: Starry Starry Night Painting with Anne Walker
DESCRIPTION:Includes all supplies\, wine or beer & light snacks.  Must be 21 or older.
URL:https://herrigcenter.org/event/nights-out-starry-starry-night-painting-with-anne-walker/
LOCATION:Opening Reception\, 209 9th St W\, Bradenton\, 34205
ORGANIZER;CN="Herrig Center for the Arts":MAILTO:acm@artcentermanatee.org
END:VEVENT
BEGIN:VEVENT
DTSTART;TZID=America/New_York:20160910T130000
DTEND;TZID=America/New_York:20160910T143000
DTSTAMP:20260422T145819
CREATED:20160802T182425Z
LAST-MODIFIED:20160802T182425Z
UID:13684-1473512400-1473517800@herrigcenter.org
SUMMARY:Exhibit Tour & Lecture with Candace Knapp
DESCRIPTION:Join Candace as she conducts a tour of her artwork and listen to how her “Imaginary Friends” were created.
URL:https://herrigcenter.org/event/exhibit-tour-lecture-with-candace-knapp/
LOCATION:Opening Reception\, 209 9th St W\, Bradenton\, 34205
ORGANIZER;CN="Herrig Center for the Arts":MAILTO:acm@artcentermanatee.org
END:VEVENT
BEGIN:VEVENT
DTSTART;TZID=America/New_York:20160909T190000
DTEND;TZID=America/New_York:20160909T210000
DTSTAMP:20260422T145819
CREATED:20160802T182948Z
LAST-MODIFIED:20160802T182948Z
UID:13685-1473447600-1473454800@herrigcenter.org
SUMMARY:Nights Out: Gyotaku Fish Prints with Bekka Stasny
DESCRIPTION:Includes all supplies\, wine or beer & light snacks.  Must be 21 or older.
URL:https://herrigcenter.org/event/nights-out-gyotaku-fish-prints-with-bekka-stasny/
LOCATION:Opening Reception\, 209 9th St W\, Bradenton\, 34205
ORGANIZER;CN="Herrig Center for the Arts":MAILTO:acm@artcentermanatee.org
END:VEVENT
BEGIN:VEVENT
DTSTART;TZID=America/New_York:20160901T170000
DTEND;TZID=America/New_York:20160901T190000
DTSTAMP:20260422T145819
CREATED:20160802T182231Z
LAST-MODIFIED:20160802T182231Z
UID:13683-1472749200-1472756400@herrigcenter.org
SUMMARY:Candace Knapp & Something To Talk About Opening Reception
DESCRIPTION:Join us as we celebrate the opening of Candace Knapp – A Gathering Of Imaginary Friends and the open juried show Something To Talk About.  September 1\, 5pm – 7pm
URL:https://herrigcenter.org/event/candace-knapp-something-to-talk-about-opening-reception/
LOCATION:Opening Reception\, 209 9th St W\, Bradenton\, 34205
ORGANIZER;CN="Herrig Center for the Arts":MAILTO:acm@artcentermanatee.org
END:VEVENT
BEGIN:VEVENT
DTSTART;TZID=America/New_York:20160830T090000
DTEND;TZID=America/New_York:20160930T170000
DTSTAMP:20260422T145819
CREATED:20160802T183931Z
LAST-MODIFIED:20160802T183931Z
UID:13692-1472547600-1475254800@herrigcenter.org
SUMMARY:Something To Talk About\, Open Juried Exhibit
DESCRIPTION:Reid Hodges & Searle Galleries
URL:https://herrigcenter.org/event/something-to-talk-about-open-juried-exhibit/
LOCATION:Opening Reception\, 209 9th St W\, Bradenton\, 34205
ORGANIZER;CN="Herrig Center for the Arts":MAILTO:acm@artcentermanatee.org
END:VEVENT
END:VCALENDAR