BEGIN:VCALENDAR
VERSION:2.0
PRODID:-//Herrig Center for the Arts - ECPv6.15.20//NONSGML v1.0//EN
CALSCALE:GREGORIAN
METHOD:PUBLISH
X-WR-CALNAME:Herrig Center for the Arts
X-ORIGINAL-URL:https://herrigcenter.org
X-WR-CALDESC:Events for Herrig Center for the Arts
REFRESH-INTERVAL;VALUE=DURATION:PT1H
X-Robots-Tag:noindex
X-PUBLISHED-TTL:PT1H
BEGIN:VTIMEZONE
TZID:America/New_York
BEGIN:DAYLIGHT
TZOFFSETFROM:-0500
TZOFFSETTO:-0400
TZNAME:EDT
DTSTART:20180311T070000
END:DAYLIGHT
BEGIN:STANDARD
TZOFFSETFROM:-0400
TZOFFSETTO:-0500
TZNAME:EST
DTSTART:20181104T060000
END:STANDARD
BEGIN:DAYLIGHT
TZOFFSETFROM:-0500
TZOFFSETTO:-0400
TZNAME:EDT
DTSTART:20190310T070000
END:DAYLIGHT
BEGIN:STANDARD
TZOFFSETFROM:-0400
TZOFFSETTO:-0500
TZNAME:EST
DTSTART:20191103T060000
END:STANDARD
BEGIN:DAYLIGHT
TZOFFSETFROM:-0500
TZOFFSETTO:-0400
TZNAME:EDT
DTSTART:20200308T070000
END:DAYLIGHT
BEGIN:STANDARD
TZOFFSETFROM:-0400
TZOFFSETTO:-0500
TZNAME:EST
DTSTART:20201101T060000
END:STANDARD
BEGIN:DAYLIGHT
TZOFFSETFROM:-0500
TZOFFSETTO:-0400
TZNAME:EDT
DTSTART:20210314T070000
END:DAYLIGHT
BEGIN:STANDARD
TZOFFSETFROM:-0400
TZOFFSETTO:-0500
TZNAME:EST
DTSTART:20211107T060000
END:STANDARD
BEGIN:DAYLIGHT
TZOFFSETFROM:-0500
TZOFFSETTO:-0400
TZNAME:EDT
DTSTART:20220313T070000
END:DAYLIGHT
BEGIN:STANDARD
TZOFFSETFROM:-0400
TZOFFSETTO:-0500
TZNAME:EST
DTSTART:20221106T060000
END:STANDARD
END:VTIMEZONE
BEGIN:VEVENT
DTSTART;TZID=America/New_York:20210313T100000
DTEND;TZID=America/New_York:20210313T160000
DTSTAMP:20260422T101122
CREATED:20210303T164805Z
LAST-MODIFIED:20210303T164805Z
UID:31048-1615629600-1615651200@herrigcenter.org
SUMMARY:Free Silversmithing Class
DESCRIPTION:Beginner Gemstone Earrings with Donna Carrion Sat March 13\, 10:00-4:00\nLearn some of the basic skills of jewelry making while creating a pair of earrings similar to the ones pictured. You will learn how to transform your sheet metal into shapes\, add stamps\, soldering\, setting a gemstone and hand make earring wires. Please bring extra magnification glasses if you have them. Closed toe shoes are required for this class for safety.  Masks are mandatory in this class-no exceptions. There will be a 20 minute lunch break so please plan accordingly. \nManatee County Residents. New to ACM only.
URL:https://herrigcenter.org/event/free-silversmithing-class/
LOCATION:Herrig Center for the Arts
CATEGORIES:Workshop
END:VEVENT
BEGIN:VEVENT
DTSTART;TZID=America/New_York:20210313T090000
DTEND;TZID=America/New_York:20210313T160000
DTSTAMP:20260422T101122
CREATED:20210302T183013Z
LAST-MODIFIED:20210302T183902Z
UID:31027-1615626000-1615651200@herrigcenter.org
SUMMARY:Spring Pottery Sale
DESCRIPTION:Join us outside for our annual spring pottery sale. Shop handcrafted decorative and functional pottery made by students of Herrig Center for the Arts.
URL:https://herrigcenter.org/event/spring-pottery-sale-4/
LOCATION:Herrig Center for the Arts
CATEGORIES:Event
END:VEVENT
BEGIN:VEVENT
DTSTART;VALUE=DATE:20210309
DTEND;VALUE=DATE:20210410
DTSTAMP:20260422T101122
CREATED:20210302T183825Z
LAST-MODIFIED:20210302T183825Z
UID:31033-1615248000-1618012799@herrigcenter.org
SUMMARY:Beaux's Arts of Central Florida
DESCRIPTION:Reid Hodges Gallery: Beaux’s Arts of Central Florida Curated Show. Beaux Arts of Central Florida is a group of award winning artists focusing on Contemporary Art. The artists are members by invitation only. They work in all mediums and place a strong emphasis on experimentation and creativity to produce exceptional art work. The award winning artists of Beaux Arts have been exhibiting their contemporary art as a group throughout Central Florida since 1962.
URL:https://herrigcenter.org/event/beauxs-arts-of-central-florida/
LOCATION:Herrig Center for the Arts
CATEGORIES:Exhibition
END:VEVENT
BEGIN:VEVENT
DTSTART;VALUE=DATE:20210309
DTEND;VALUE=DATE:20210410
DTSTAMP:20260422T101122
CREATED:20210302T183558Z
LAST-MODIFIED:20210302T183558Z
UID:31030-1615248000-1618012799@herrigcenter.org
SUMMARY:Local Inspirations Open Juried Show
DESCRIPTION:Artists are asked\, “What in your local neighborhood inspires your art? Is it the ocean\, the bridges over the river\, the diverse flora and fauna of southwest Florida? Show us how you interpret local familiar scenes we may pass by every day but never really see.”
URL:https://herrigcenter.org/event/local-inspirations-open-juried-show/
LOCATION:Herrig Center for the Arts
CATEGORIES:Exhibition
END:VEVENT
BEGIN:VEVENT
DTSTART;VALUE=DATE:20210309
DTEND;VALUE=DATE:20210410
DTSTAMP:20260422T101122
CREATED:20201222T192038Z
LAST-MODIFIED:20210302T184001Z
UID:30530-1615248000-1618012799@herrigcenter.org
SUMMARY:International Watercolor Society Florida USA Curated Show
DESCRIPTION:ACM Curated Show \nKellogg Gallery \nA curated exhibition featuring master watercolor artists from around the world. The International Watercolor Society has chapters in over 110 countries\, and gathers together one of the largest and most diverse group of watercolor artists and art lovers alike. Being one of many nations\, cultures\, and backgrounds\, it provides a great platform for the continual development\, learning\, and passing of the art of watercolor. In addition to the exchange of ideas between artists in the field and industry\, it advocates and supports the next generation of artists with the events and exhibitions that are difficult to come by for many. This is the inaugural exhibition of the recently formed IWS Florida USA Chapter.
URL:https://herrigcenter.org/event/international-watercolor-society-florida-usa-curated-show/
LOCATION:Herrig Center for the Arts
CATEGORIES:Exhibition
END:VEVENT
BEGIN:VEVENT
DTSTART;VALUE=DATE:20210202
DTEND;VALUE=DATE:20210306
DTSTAMP:20260422T101122
CREATED:20201222T190934Z
LAST-MODIFIED:20201222T190934Z
UID:30524-1612224000-1614988799@herrigcenter.org
SUMMARY:Florida Suncoast Watercolor Society Aqueous Exhibit
DESCRIPTION:Kellogg & Searle Galleries \nJuror: Dean Mitchell \nFormed in 1983\, the Florida Suncoast Watercolor Society represents more than 200 members\, many of whom have achieved statewide and national recognition for their works; it serves members who live along the Florida Gulf coast. FSWS was formed to foster the advancement of and promote excellence in the art of watercolor painting. Our intent is to inform and educate through exhibitions\, lectures and painting demonstrations as to the best work currently being done in watercolor. A Juried open aqueous exhibition. The show is open to all artists residing in the counties bordering the West Coast of Florida. All details of entry\, juror selection and awards are handled by FSWS. Contact them for more information. https://suncoastwatercolorsociety.com/
URL:https://herrigcenter.org/event/florida-suncoast-watercolor-society-aqueous-exhibit/
LOCATION:Herrig Center for the Arts
CATEGORIES:Exhibition
END:VEVENT
BEGIN:VEVENT
DTSTART;VALUE=DATE:20210202
DTEND;VALUE=DATE:20210306
DTSTAMP:20260422T101122
CREATED:20201222T191229Z
LAST-MODIFIED:20201222T191229Z
UID:30528-1612224000-1614988799@herrigcenter.org
SUMMARY:Island Gallery West Curated Show
DESCRIPTION:Reid Hodges Gallery \nIGW Curated Show \nIn April 1990\, Island Gallery West was created by a small core group of local artists on Florida’s Anna Maria Island. Our gallery has evolved into a successful artists’ cooperative of nearly thirty members. We offer paintings\, drawings\, photographs\, mixed media\, ceramic arts\, pottery\, decorative tiles\, jewelry\, glass mosaics and much more. The work of a different artist or group is featured each month.  \nSnack Time by Sue Bokos
URL:https://herrigcenter.org/event/island-gallery-west-curated-show/
LOCATION:Herrig Center for the Arts
CATEGORIES:Exhibition
END:VEVENT
BEGIN:VEVENT
DTSTART;VALUE=DATE:20210105
DTEND;VALUE=DATE:20210130
DTSTAMP:20260422T101122
CREATED:20201222T190546Z
LAST-MODIFIED:20201222T190546Z
UID:30522-1609804800-1611964799@herrigcenter.org
SUMMARY:12 x 12 Open Juried Show
DESCRIPTION:Reid Hodges Gallery \n \nAn all media open juried exhibition limited to works where the OUTSIDE dimensions are 12 x 12 (not larger or smaller but 12×12)\, whether framed or unframed. What does 12 x 12 mean? 12 inches x 12 inches or 12cm x 12cm or 12mm x 12mm. (Sorry\, we can’t accommodate 12 feet or yards!) On 3D pieces\, two of the OUTSIDE dimensions are 12 by 12\, the third can vary\, as in a 12″ round ceramic plate that is 1″ deep.
URL:https://herrigcenter.org/event/12-x-12-open-juried-show/
LOCATION:Herrig Center for the Arts
CATEGORIES:Exhibition
END:VEVENT
BEGIN:VEVENT
DTSTART;VALUE=DATE:20210105
DTEND;VALUE=DATE:20210130
DTSTAMP:20260422T101122
CREATED:20201222T190131Z
LAST-MODIFIED:20201222T190131Z
UID:30519-1609804800-1611964799@herrigcenter.org
SUMMARY:Peter Stilton: Walking In The Morning Light-A World More Bright Curated Show
DESCRIPTION:Searle Gallery \n“I have a cinematic mind that doesn’t see arbitrary distinctions or boundaries between music (audio) and painting (visual) or writing (mental). But I do feel an impulsion to share what I hear\, see\, feel and think which I find so involving and inspiring. Time is not relevant because the spirituality of the art and humanities transcend that materials concept. The arts tend towards a universality that does not include ages\, races or any material limitations.
URL:https://herrigcenter.org/event/peter-stilton-walking-in-the-morning-light-a-world-more-bright-curated-show/
LOCATION:Herrig Center for the Arts
CATEGORIES:Exhibition
END:VEVENT
BEGIN:VEVENT
DTSTART;VALUE=DATE:20210105
DTEND;VALUE=DATE:20210130
DTSTAMP:20260422T101122
CREATED:20201222T185931Z
LAST-MODIFIED:20201222T190309Z
UID:30517-1609804800-1611964799@herrigcenter.org
SUMMARY:A Secret Garden Curated Exhibit
DESCRIPTION:ACM Curated Show\nKellogg Gallery \nStep into a magical garden of whimsy\, meander along the path among handmade ceramic totems measuring from 3’ to 5’ tall\, all gracefully accompanied by photorealistic botanical paintings.  Featuring totem artists: Peggy Bishop (New Orleans\, LA)\, Laurie Landry (St. Petersburg\, FL)\, Leigh Taylor Mickelson (Ossining\, NY)\, and Kimberly Miller (Leesburg\, FL); as well as Acrylic Painter Susan Martin\, (Merritt Island\, FL). Serenaded by the comforting babble of water fountains and meditation bells\, you’ll be swept away to a serene and peaceful state of mind.  Come experience our secret garden\, you may want to stay for a while.
URL:https://herrigcenter.org/event/a-secret-garden-curated-exhibit/
LOCATION:Herrig Center for the Arts
CATEGORIES:Exhibition
END:VEVENT
BEGIN:VEVENT
DTSTART;TZID=America/New_York:20201013T090000
DTEND;TZID=America/New_York:20201120T170000
DTSTAMP:20260422T101122
CREATED:20200926T151319Z
LAST-MODIFIED:20200926T151319Z
UID:29987-1602579600-1605891600@herrigcenter.org
SUMMARY:Fishing For Diamonds Open Juried Show
DESCRIPTION:Fishing For Diamonds\, an open juried show with a twist (or two)\, sponsored by Jess Jewelers. First\, the subject matter must be of a sea creature or a seascape\, the second is that said creature needs to be wearing a diamond earring or the seascape must include a diamond earring. Why the specific guidelines? Jess Jewelers will present the top three award winners with a pair of genuine diamond earrings\, as well as large cash prizes. So challenge yourself to think outside the tackle box and bring us your best whimsical sea creatures wearing some bling!
URL:https://herrigcenter.org/event/fishing-for-diamonds-open-juried-show/
LOCATION:Herrig Center for the Arts
CATEGORIES:Exhibition
END:VEVENT
BEGIN:VEVENT
DTSTART;TZID=America/New_York:20200926T080000
DTEND;TZID=America/New_York:20201009T170000
DTSTAMP:20260422T101122
CREATED:20200926T150644Z
LAST-MODIFIED:20200926T150644Z
UID:29744-1601107200-1602262800@herrigcenter.org
SUMMARY:In The Making Open Juried Show & ACM Instructor Showcase
DESCRIPTION:Welcome to the 83rd season of exhibits at Herrig Center for the Arts. In the Kellogg & Searle galleries is “In The Making” an open juried show displaying a wide variety of subject matters and mediums from local and regional artists.  In the Reid Hodges gallery our annual Instructors’ Showcase features the artwork of our talented cadre of instructors.
URL:https://herrigcenter.org/event/in-the-making-open-juried-show-acm-instructor-showcase/
LOCATION:Herrig Center for the Arts
CATEGORIES:Exhibition
END:VEVENT
BEGIN:VEVENT
DTSTART;TZID=America/New_York:20200808T100000
DTEND;TZID=America/New_York:20200808T150000
DTSTAMP:20260422T101122
CREATED:20200715T140723Z
LAST-MODIFIED:20200715T140723Z
UID:28537-1596880800-1596898800@herrigcenter.org
SUMMARY:Big Art Blow Out
DESCRIPTION:Original Art for your home or office.
URL:https://herrigcenter.org/event/big-art-blow-out/
LOCATION:Herrig Center for the Arts
CATEGORIES:Event
END:VEVENT
BEGIN:VEVENT
DTSTART;VALUE=DATE:20200715
DTEND;VALUE=DATE:20200807
DTSTAMP:20260422T101122
CREATED:20200715T140951Z
LAST-MODIFIED:20200715T140951Z
UID:28540-1594771200-1596758399@herrigcenter.org
SUMMARY:Create Exhibit
DESCRIPTION:
URL:https://herrigcenter.org/event/create-exhibit/
LOCATION:Herrig Center for the Arts
CATEGORIES:Exhibition
END:VEVENT
BEGIN:VEVENT
DTSTART;TZID=America/New_York:20200222T090000
DTEND;TZID=America/New_York:20200223T160000
DTSTAMP:20260422T101122
CREATED:20190713T180007Z
LAST-MODIFIED:20190713T180007Z
UID:23933-1582362000-1582473600@herrigcenter.org
SUMMARY:Fine Arts Festival
DESCRIPTION:Herrig Center for the Arts proudly presents our 19th Annual Fine Arts Festival of Manatee County\, a juried two day outdoor festival that takes place in Downtown Bradenton at the beautiful Riverwalk Park on the Manatee River. February 22\, 2020\, 9-5 pm & February 23\, 2020\, 9-4 pm. The Riverwalk Park is a 1.5 mile linear park\, with an outside gallery of 19 pieces of art created by 5 artists. Our show features Regional and National award winning artists\, artist demos\, shopping\, music\, food vendors with seating and much more. The festival attracts art lovers of all kinds. Admission and parking are free and open to the public. The proceeds of the festival benefit Herrig Center for the Arts’s Education and Out Reach programs. \nThe classes of entry into the show are: Fine Craft\, Jewelry\, Painting & Drawing\, Photography and Sculpture.\nAwards:\nBest of Show=$1500\n2nd Place=$850\n3rd Place=$650
URL:https://herrigcenter.org/event/fine-arts-festival/
LOCATION:Bradenton Riverwalk\, Bradenton\, FL\, United States
END:VEVENT
BEGIN:VEVENT
DTSTART;TZID=America/New_York:20200213T170000
DTEND;TZID=America/New_York:20200213T190000
DTSTAMP:20260422T101122
CREATED:20191023T163456Z
LAST-MODIFIED:20191023T163456Z
UID:25401-1581613200-1581620400@herrigcenter.org
SUMMARY:3 Modern Masters & Florida Suncoast Watercolor Society Opening Reception
DESCRIPTION:Join us as we celebrate the opening of two new exhibits.  Meet the artists.  Complimentary wine\, beer and appetizers.  Free and open to the public.
URL:https://herrigcenter.org/event/3-modern-masters-florida-suncoast-watercolor-society-opening-reception/
LOCATION:Herrig Center for the Arts
CATEGORIES:Receptions
END:VEVENT
BEGIN:VEVENT
DTSTART;TZID=America/New_York:20200211T090000
DTEND;TZID=America/New_York:20200313T170000
DTSTAMP:20260422T101122
CREATED:20191023T163331Z
LAST-MODIFIED:20191023T163331Z
UID:25399-1581411600-1584118800@herrigcenter.org
SUMMARY:Florida Suncoast Watercolor Society Annual Aqueous Exhibition
DESCRIPTION:Searle & Reid Hodges Gallery: Florida Suncoast Watercolor Society Annual Aqueous Exhibit\, a curated exhibit of talented watercolor artists from the Florida suncoast.  Formed in 1983 to foster the advancement of and promote excellence in the art of watercolor painting\, this annual exhibit always displays the versatility of watercolors\, from photorealism to abstract interpretations of the world around us.
URL:https://herrigcenter.org/event/florida-suncoast-watercolor-society-annual-aqueous-exhibition/
LOCATION:Herrig Center for the Arts
CATEGORIES:Exhibition
END:VEVENT
BEGIN:VEVENT
DTSTART;TZID=America/New_York:20200211T090000
DTEND;TZID=America/New_York:20200313T170000
DTSTAMP:20260422T101122
CREATED:20191023T163133Z
LAST-MODIFIED:20191023T163133Z
UID:25397-1581411600-1584118800@herrigcenter.org
SUMMARY:3 Modern Masters: Thomas Schaller\, John Salminen & Dean Mitchell Exhibition
DESCRIPTION:3 Modern Masters\, a curated exhibition featuring three preeminent and accomplished watercolor artists: Thomas Schaller AWS NWS TWSA\, John Salminen\, AWS NWS TWSA\, and Dean Mitchell AWS NWS.  Admission $5.
URL:https://herrigcenter.org/event/3-modern-masters-thomas-schaller-john-salminen-dean-mitchell/
LOCATION:Herrig Center for the Arts
CATEGORIES:Exhibition
END:VEVENT
BEGIN:VEVENT
DTSTART;TZID=America/New_York:20200117T090000
DTEND;TZID=America/New_York:20200118T150000
DTSTAMP:20260422T101122
CREATED:20190713T175806Z
LAST-MODIFIED:20190713T175806Z
UID:23932-1579251600-1579359600@herrigcenter.org
SUMMARY:Used But Useful
DESCRIPTION:Used But Useful is a gently used item sale. The sale includes discounted art supplies such as paints\, brushes\, paper\, frames and misc. items; household goods and more. All proceeds benefit our education and outreach programming.
URL:https://herrigcenter.org/event/used-but-useful-3/
LOCATION:Herrig Center for the Arts
END:VEVENT
BEGIN:VEVENT
DTSTART;TZID=America/New_York:20200116T170000
DTEND;TZID=America/New_York:20200116T190000
DTSTAMP:20260422T101122
CREATED:20191023T162311Z
LAST-MODIFIED:20191023T162311Z
UID:25396-1579194000-1579201200@herrigcenter.org
SUMMARY:AGAMI & ACM Member Exhibits Opening Reception
DESCRIPTION:Join us as we celebrate the opening of two fabulous exhibits.  Meet the artists.  Complimentary wine or beer and appetizers.  Free and open to the public.
URL:https://herrigcenter.org/event/agami-acm-member-exhibits-opening-reception/
LOCATION:Herrig Center for the Arts
CATEGORIES:Receptions
END:VEVENT
BEGIN:VEVENT
DTSTART;TZID=America/New_York:20200114T090000
DTEND;TZID=America/New_York:20200207T170000
DTSTAMP:20260422T101122
CREATED:20191023T162103Z
LAST-MODIFIED:20191023T162103Z
UID:25394-1578992400-1581094800@herrigcenter.org
SUMMARY:Herrig Center for the Arts Annual Member Exhibition
DESCRIPTION:Searle & Reid Hodges Gallery: Annual Herrig Center for the Arts Member Exhibition\, an all media open juried exhibit featuring the work of our members.  A generational tradition at Herrig Center for the Arts\, each year the caliber of work continues to surpass our expectations and is truly a reflection of the rich tapestry of talent in our community.
URL:https://herrigcenter.org/event/artcenter-manatee-annual-member-exhibition/
LOCATION:Herrig Center for the Arts
CATEGORIES:Exhibition
END:VEVENT
BEGIN:VEVENT
DTSTART;TZID=America/New_York:20200114T090000
DTEND;TZID=America/New_York:20200207T170000
DTSTAMP:20260422T101122
CREATED:20191023T161842Z
LAST-MODIFIED:20191023T161842Z
UID:25392-1578992400-1581094800@herrigcenter.org
SUMMARY:Artists Guild of Anna Maria Island Curated Exhibit
DESCRIPTION:Artists Guild Of Anna Maria Island\, a curated exhibit featuring artists of all mediums\, whose mission is to promote and support creative processes by bringing together all Artists – visual and performing and writers – to share experiences\, expertise and work together to develop and promote the artistic community.
URL:https://herrigcenter.org/event/artists-guild-of-anna-maria-island-curated-exhibit/
LOCATION:Herrig Center for the Arts
CATEGORIES:Exhibition
END:VEVENT
BEGIN:VEVENT
DTSTART;TZID=America/New_York:20191219T170000
DTEND;TZID=America/New_York:20191219T190000
DTSTAMP:20260422T101122
CREATED:20191023T161606Z
LAST-MODIFIED:20191023T161606Z
UID:25391-1576774800-1576782000@herrigcenter.org
SUMMARY:A Walk In The Woods\, Small But Mighty Exhibits Opening Reception
DESCRIPTION:Join us as we celebrate the opening of two new fabulous exhibits.  Complimentary beer or wine and appetizers.  Meet the artists.  Free and open to the public.
URL:https://herrigcenter.org/event/a-walk-in-the-woods-small-but-mighty-exhibits-opening-reception/
LOCATION:Herrig Center for the Arts
CATEGORIES:Receptions
END:VEVENT
BEGIN:VEVENT
DTSTART;TZID=America/New_York:20191217T090000
DTEND;TZID=America/New_York:20200110T170000
DTSTAMP:20260422T101122
CREATED:20191023T161421Z
LAST-MODIFIED:20191023T161421Z
UID:25389-1576573200-1578675600@herrigcenter.org
SUMMARY:Small But Mighty Exhibition
DESCRIPTION:Searle & Reid Hodges Galleries: Small But Mighty\, an all media open juried show with a twist. The only requirement for entry into this exhibit\, all pieces must be 12” x 12” or smaller.
URL:https://herrigcenter.org/event/small-but-mighty-exhibition/
LOCATION:Herrig Center for the Arts
CATEGORIES:Exhibition
END:VEVENT
BEGIN:VEVENT
DTSTART;TZID=America/New_York:20191217T090000
DTEND;TZID=America/New_York:20200110T170000
DTSTAMP:20260422T101122
CREATED:20191023T161253Z
LAST-MODIFIED:20191023T161253Z
UID:25387-1576573200-1578675600@herrigcenter.org
SUMMARY:A Walk In The Woods Exhibition
DESCRIPTION:A Walk In The Woods\, a curated four person exhibit with whimsical horse sculptures surrounded by three talented landscape artists who each interpret the forest in their own style.  Featuring Orlando Artist Mindy Colton\, and her horse sculptures in mixed media\, aluminum\, ceramic and bronze; Sarasota artist Cecile Moran\, a painter of surreal tree-scapes accentuated with gold leaf; Myakka City artist Evelyn McCorristin-Peters\, a painter inspired by her environment\, with touches of whimsy and fun; and Bradenton artist Cheryl Moody\, whose loose landscapes are reflective of the wildness of inland Florida.  Come take a walk with us as we celebrate these four fantastic artists.
URL:https://herrigcenter.org/event/a-walk-in-the-woods-exhibition/
LOCATION:Herrig Center for the Arts
CATEGORIES:Exhibition
END:VEVENT
BEGIN:VEVENT
DTSTART;TZID=America/New_York:20191206T190000
DTEND;TZID=America/New_York:20191206T210000
DTSTAMP:20260422T101122
CREATED:20191023T155605Z
LAST-MODIFIED:20191023T155605Z
UID:25386-1575658800-1575666000@herrigcenter.org
SUMMARY:Nights Out - Creative Fun For Everyone Fused Glass Ornaments with Liana Martin
DESCRIPTION:Fused Glass Ornaments with Liana Martin.  Using glass and frit\, we’ll make a fused glass ornament.  Includes all supplies\, complimentary wine or beer and light snacks; must be 21 or older.  $38
URL:https://herrigcenter.org/event/nights-out-creative-fun-for-everyone-fused-glass-ornaments-with-liana-martin/
LOCATION:Herrig Center for the Arts
CATEGORIES:Nights Out
END:VEVENT
BEGIN:VEVENT
DTSTART;TZID=America/New_York:20191206T100000
DTEND;TZID=America/New_York:20191207T160000
DTSTAMP:20260422T101122
CREATED:20190713T170956Z
LAST-MODIFIED:20190713T170956Z
UID:23928-1575626400-1575734400@herrigcenter.org
SUMMARY:Holiday Pottery Sale
DESCRIPTION:Shop beautiful handcrafted functional and decorative pottery made by Herrig Center for the Arts artists.
URL:https://herrigcenter.org/event/holiday-pottery-sale-2/
LOCATION:Herrig Center for the Arts
END:VEVENT
BEGIN:VEVENT
DTSTART;TZID=America/New_York:20191122T190000
DTEND;TZID=America/New_York:20191122T210000
DTSTAMP:20260422T101122
CREATED:20191023T155408Z
LAST-MODIFIED:20191023T155408Z
UID:25384-1574449200-1574456400@herrigcenter.org
SUMMARY:Nights Out - Creative Fun For Everyone Beach Painting with Deb Lerash
DESCRIPTION:Come paint a fun beach scene with Deb. Grab your friends\, relax and take home a finished art project you’ve created! Includes all supplies\, complimentary wine or beer and light snacks; must be 21 or older.  $38
URL:https://herrigcenter.org/event/nights-out-creative-fun-for-everyone-beach-painting-with-deb-lerash/
LOCATION:Herrig Center for the Arts
CATEGORIES:Nights Out
END:VEVENT
BEGIN:VEVENT
DTSTART;TZID=America/New_York:20191122T180000
DTEND;TZID=America/New_York:20191122T210000
DTSTAMP:20260422T101122
CREATED:20191023T155211Z
LAST-MODIFIED:20191023T155211Z
UID:25383-1574445600-1574456400@herrigcenter.org
SUMMARY:Nights Out - Creative Fun For Everyone Raku with Seth Barendse
DESCRIPTION:Part 2: Join Seth in a 2 night class where you will learn how to make a clay piece on the first night\, and then fire it in the raku kiln.  Raku is known for its lustrous colors and crackled glaze effects.  Grab your friends\, relax and take home a finished art project you’ve created! Includes all supplies\, complimentary wine or beer and light snacks; must be 21 or older.  $90
URL:https://herrigcenter.org/event/nights-out-creative-fun-for-everyone-raku-with-seth-barendse-2/
LOCATION:Herrig Center for the Arts
CATEGORIES:Nights Out
END:VEVENT
BEGIN:VEVENT
DTSTART;TZID=America/New_York:20191115T180000
DTEND;TZID=America/New_York:20191115T210000
DTSTAMP:20260422T101122
CREATED:20191023T155026Z
LAST-MODIFIED:20191023T155026Z
UID:25381-1573840800-1573851600@herrigcenter.org
SUMMARY:Nights Out - Creative Fun For Everyone Raku with Seth Barendse
DESCRIPTION:Join Seth in a 2 night class where you will learn how to make a clay piece on the first night\, and then fire it in the Raku kiln on the second night.  Raku is known for its lustrous colors and crackled glaze effects.  Grab your friends\, relax and take home a finished art project you’ve created! Includes all supplies\, complimentary wine or beer and light snacks; must be 21 or older.  $90
URL:https://herrigcenter.org/event/nights-out-creative-fun-for-everyone-raku-with-seth-barendse/
LOCATION:Herrig Center for the Arts
CATEGORIES:Nights Out
END:VEVENT
END:VCALENDAR