BEGIN:VCALENDAR
VERSION:2.0
PRODID:-//Herrig Center for the Arts - ECPv6.15.20//NONSGML v1.0//EN
CALSCALE:GREGORIAN
METHOD:PUBLISH
X-ORIGINAL-URL:https://herrigcenter.org
X-WR-CALDESC:Events for Herrig Center for the Arts
REFRESH-INTERVAL;VALUE=DURATION:PT1H
X-Robots-Tag:noindex
X-PUBLISHED-TTL:PT1H
BEGIN:VTIMEZONE
TZID:America/New_York
BEGIN:DAYLIGHT
TZOFFSETFROM:-0500
TZOFFSETTO:-0400
TZNAME:EDT
DTSTART:20210314T070000
END:DAYLIGHT
BEGIN:STANDARD
TZOFFSETFROM:-0400
TZOFFSETTO:-0500
TZNAME:EST
DTSTART:20211107T060000
END:STANDARD
BEGIN:DAYLIGHT
TZOFFSETFROM:-0500
TZOFFSETTO:-0400
TZNAME:EDT
DTSTART:20220313T070000
END:DAYLIGHT
BEGIN:STANDARD
TZOFFSETFROM:-0400
TZOFFSETTO:-0500
TZNAME:EST
DTSTART:20221106T060000
END:STANDARD
BEGIN:DAYLIGHT
TZOFFSETFROM:-0500
TZOFFSETTO:-0400
TZNAME:EDT
DTSTART:20230312T070000
END:DAYLIGHT
BEGIN:STANDARD
TZOFFSETFROM:-0400
TZOFFSETTO:-0500
TZNAME:EST
DTSTART:20231105T060000
END:STANDARD
END:VTIMEZONE
BEGIN:VEVENT
DTSTART;VALUE=DATE:20221004
DTEND;VALUE=DATE:20221029
DTSTAMP:20260422T122106
CREATED:20220921T190239Z
LAST-MODIFIED:20220921T190239Z
UID:38974-1664841600-1667001599@herrigcenter.org
SUMMARY:Color Outside The Lines Open Juried Show
DESCRIPTION:Kellogg\, Searle & Reid Hodges Galleries \nAn open all media juried exhibit. \nOpening Reception: Thursday\, October 6\, 5-7 pm \nJuror: Janet Mishner \n“Art is a line around your thoughts.” – Gustav Klimt \nWere you told as a young artist to always color inside the lines? Did you conform to this conventional behavior? No? Good\, show us what it means to you to color outside the lines!
URL:https://herrigcenter.org/event/color-outside-the-lines-open-juried-show/
LOCATION:Herrig Center for the Arts
CATEGORIES:Exhibition
ATTACH;FMTTYPE=image/jpeg:https://herrigcenter.org/wp-content/uploads/2022/09/Color-Outside-the-Lines-web-banner.jpg
END:VEVENT
BEGIN:VEVENT
DTSTART;TZID=America/New_York:20221014T190000
DTEND;TZID=America/New_York:20221014T210000
DTSTAMP:20260422T122106
CREATED:20220922T181444Z
LAST-MODIFIED:20220922T181444Z
UID:39018-1665774000-1665781200@herrigcenter.org
SUMMARY:Nights Out Beach Sunset with Kathy Lee Patterson
DESCRIPTION:Come with a friend\, go home with a piece you’ve created!\nIncludes all supplies\, complimentary beer or wine and snacks. Ages 21+\nS3: 10/14/22 Kathy Lee Patterson-Beach Sunset with Palms-Acrylic Painting\, 7-9\nWho doesn’t love a gorgeous golden sunset. We will be using vibrant colors and blending many different acrylic colors to make a memorable sunset with palm trees on a small canvas. We will be blending colors on the palette and canvas and applying layers of paint to give depth. Come join us! $45 \n 
URL:https://herrigcenter.org/event/nights-out-beach-sunset-with-kathy-lee-patterson/
LOCATION:Herrig Center for the Arts
CATEGORIES:Nights Out
ATTACH;FMTTYPE=image/jpeg:https://herrigcenter.org/wp-content/uploads/2022/08/KLPatterson-Sunset-Palms-scaled-2-e1663870351654.jpg
END:VEVENT
END:VCALENDAR